

BEGIN:VCALENDAR
VERSION:2.0
PRODID:-//hacksw/handcal//NONSGML v1.0//EN
CALSCALE:GREGORIAN
BEGIN:VEVENT
DTEND:20200329T000000
UID:69ea6059bb9a1
DTSTAMP:20260424T040929
LOCATION:TBA TBA Bendigo 3550 VIC
DESCRIPTION:
URL;VALUE=URI:http://www.rotarywilliamstown.org.au/event/23108
SUMMARY:2020 Rotary District Conference - Bendigo
DTSTART:20200327T000000
END:VEVENT
END:VCALENDAR

