

BEGIN:VCALENDAR
VERSION:2.0
PRODID:-//hacksw/handcal//NONSGML v1.0//EN
CALSCALE:GREGORIAN
BEGIN:VEVENT
DTEND:20210118T210000
UID:69ea39ba9f7b6
DTSTAMP:20260424T012442
LOCATION:TBA TBA TBA TBA VIC
DESCRIPTION:
URL;VALUE=URI:http://www.rotarywilliamstown.org.au/event/23160
SUMMARY:Hobsons Bay Cluster BBQ
DTSTART:20210118T180000
END:VEVENT
END:VCALENDAR

