

BEGIN:VCALENDAR
VERSION:2.0
PRODID:-//hacksw/handcal//NONSGML v1.0//EN
CALSCALE:GREGORIAN
BEGIN:VEVENT
DTEND:20200202T200000
UID:69ea74b22b425
DTSTAMP:20260424T053618
LOCATION:TBA TBA Williamstown 3016 VIC
DESCRIPTION:
URL;VALUE=URI:http://www.rotarywilliamstown.org.au/event/24058
SUMMARY:2020 ROCAN long dinner
DTSTART:20200202T170000
END:VEVENT
END:VCALENDAR

