

BEGIN:VCALENDAR
VERSION:2.0
PRODID:-//hacksw/handcal//NONSGML v1.0//EN
CALSCALE:GREGORIAN
BEGIN:VEVENT
DTEND:20191213T223000
UID:69ea9930a93f9
DTSTAMP:20260424T081200
LOCATION:TBA TBA Williamstown 3016 VIC
DESCRIPTION:
URL;VALUE=URI:http://www.rotarywilliamstown.org.au/event/29993
SUMMARY:Joint Xmas Party with Point Gellibrand
DTSTART:20191213T183000
END:VEVENT
END:VCALENDAR

