

BEGIN:VCALENDAR
VERSION:2.0
PRODID:-//hacksw/handcal//NONSGML v1.0//EN
CALSCALE:GREGORIAN
BEGIN:VEVENT
DTEND:20201221T180000
UID:69ea4ccaaa1ce
DTSTAMP:20260424T024602
LOCATION:Newport Lakes BBQ Mason Street Newport 3015 VIC
DESCRIPTION:
URL;VALUE=URI:http://www.rotarywilliamstown.org.au/event/33095
SUMMARY:Club Xmas BBQ
DTSTART:20201221T160000
END:VEVENT
END:VCALENDAR

