

BEGIN:VCALENDAR
VERSION:2.0
PRODID:-//hacksw/handcal//NONSGML v1.0//EN
CALSCALE:GREGORIAN
BEGIN:VEVENT
DTEND:20191031T200000
UID:69eaad50ea534
DTSTAMP:20260424T093752
LOCATION:Hoffman Reserve William Street Newport 3015 VIC
DESCRIPTION:
URL;VALUE=URI:http://www.rotarywilliamstown.org.au/event/36249
SUMMARY:2019 HALLOWEEN PARTY IN THE PARK
DTSTART:20191031T163000
END:VEVENT
END:VCALENDAR

