

BEGIN:VCALENDAR
VERSION:2.0
PRODID:-//hacksw/handcal//NONSGML v1.0//EN
CALSCALE:GREGORIAN
BEGIN:VEVENT
DTEND:20191019T220000
UID:69eac34395e33
DTSTAMP:20260424T111131
LOCATION:Kryal Castle TBA Ballarat  VIC
DESCRIPTION:
URL;VALUE=URI:http://www.rotarywilliamstown.org.au/event/39917
SUMMARY:2019 Car Rally
DTSTART:20191019T110000
END:VEVENT
END:VCALENDAR

