

BEGIN:VCALENDAR
VERSION:2.0
PRODID:-//hacksw/handcal//NONSGML v1.0//EN
CALSCALE:GREGORIAN
BEGIN:VEVENT
DTEND:20191219T220000
UID:69ea88331a15d
DTSTAMP:20260424T065931
LOCATION:Sun Theatre 8 Ballarat Street Yarraville  VIC
DESCRIPTION:
URL;VALUE=URI:http://www.rotarywilliamstown.org.au/event/41245
SUMMARY:2019 Foundation Film night
DTSTART:20191219T190000
END:VEVENT
END:VCALENDAR

