

BEGIN:VCALENDAR
VERSION:2.0
PRODID:-//hacksw/handcal//NONSGML v1.0//EN
CALSCALE:GREGORIAN
BEGIN:VEVENT
DTEND:20210627T153000
UID:69ea267f84a26
DTSTAMP:20260424T000239
LOCATION:Hyatt Place Convention Centre Essendon Fields Essendon  VIC
DESCRIPTION:
URL;VALUE=URI:http://www.rotarywilliamstown.org.au/event/45638
SUMMARY:Rotary District 9800 changeover
DTSTART:20210627T120000
END:VEVENT
END:VCALENDAR

