

BEGIN:VCALENDAR
VERSION:2.0
PRODID:-//hacksw/handcal//NONSGML v1.0//EN
CALSCALE:GREGORIAN
BEGIN:VEVENT
DTEND:20210826T220000
UID:69ea10f0aa26f
DTSTAMP:20260423T223040
LOCATION:Sun Theatre 8 Ballarat Street Yarraville 3013 VIC
DESCRIPTION:
URL;VALUE=URI:http://www.rotarywilliamstown.org.au/event/45991
SUMMARY:Foundation Film Night
DTSTART:20210826T190000
END:VEVENT
END:VCALENDAR

