

BEGIN:VCALENDAR
VERSION:2.0
PRODID:-//hacksw/handcal//NONSGML v1.0//EN
CALSCALE:GREGORIAN
BEGIN:VEVENT
DTEND:20220501T000000
UID:69e9ec144857f
DTSTAMP:20260423T195324
LOCATION:TBA TBA TBA TBA VIC
DESCRIPTION:
URL;VALUE=URI:http://www.rotarywilliamstown.org.au/event/46204
SUMMARY:9800 District Conference
DTSTART:20220430T000000
END:VEVENT
END:VCALENDAR

