

BEGIN:VCALENDAR
VERSION:2.0
PRODID:-//hacksw/handcal//NONSGML v1.0//EN
CALSCALE:GREGORIAN
BEGIN:VEVENT
DTEND:20240308T000000
UID:69e9d6914cf12
DTSTAMP:20260423T182137
LOCATION:Tasmania TBA TBA TBA VIC
DESCRIPTION:
URL;VALUE=URI:http://www.rotarywilliamstown.org.au/event/46205
SUMMARY:2024 ROCAN Charity Ride
DTSTART:20240302T000000
END:VEVENT
END:VCALENDAR

