

BEGIN:VCALENDAR
VERSION:2.0
PRODID:-//hacksw/handcal//NONSGML v1.0//EN
CALSCALE:GREGORIAN
BEGIN:VEVENT
DTEND:20231031T200000
UID:69e9d8f26dd5f
DTSTAMP:20260423T183146
LOCATION:Leo Hoffman Reserve William Street Newport 3015 VIC
DESCRIPTION:
URL;VALUE=URI:http://www.rotarywilliamstown.org.au/event/53469
SUMMARY:2023 Halloween Party
DTSTART:20231031T163000
END:VEVENT
END:VCALENDAR

