

BEGIN:VCALENDAR
VERSION:2.0
PRODID:-//hacksw/handcal//NONSGML v1.0//EN
CALSCALE:GREGORIAN
BEGIN:VEVENT
DTEND:20231106T210000
UID:69e9d7116ffa4
DTSTAMP:20260423T182345
LOCATION:Customs House Hotel Nelson Place Williamstown 3016 VIC
DESCRIPTION:
URL;VALUE=URI:http://www.rotarywilliamstown.org.au/event/53470
SUMMARY:2023 Melbourne Cup Eve Dinner
DTSTART:20231106T183000
END:VEVENT
END:VCALENDAR

